BEGIN:VCALENDAR
VERSION:2.0
PRODID:-//Woolavington Parish Council//Meeting Calendar//EN
CALSCALE:GREGORIAN
METHOD:PUBLISH
BEGIN:VEVENT
UID:71571-20260512@woolavington-pc.gov.uk
DTSTAMP:20260424T191335Z
DTSTART;VALUE=DATE:20260512
DTEND;VALUE=DATE:20260513
SUMMARY:Parish Council Meeting 12th May 2026
DESCRIPTION:Full Council Meeting\nView details: https://woolavington-pc.gov.uk/meetings/parish-council-meeting-3/
URL:https://woolavington-pc.gov.uk/meetings/parish-council-meeting-3/
END:VEVENT
END:VCALENDAR
