BEGIN:VCALENDAR
VERSION:2.0
PRODID:-//Woolavington Parish Council//Meeting Calendar//EN
CALSCALE:GREGORIAN
METHOD:PUBLISH
BEGIN:VEVENT
UID:71528-20260224@woolavington-pc.gov.uk
DTSTAMP:20260424T203922Z
DTSTART;VALUE=DATE:20260224
DTEND;VALUE=DATE:20260225
SUMMARY:Parish Council Meeting 24th February 2026
DESCRIPTION:Full Council Meeting\nView details: https://woolavington-pc.gov.uk/meetings/parish-council-meeting-24th-february-2026/
URL:https://woolavington-pc.gov.uk/meetings/parish-council-meeting-24th-february-2026/
END:VEVENT
END:VCALENDAR
