BEGIN:VCALENDAR
VERSION:2.0
PRODID:-//Woolavington Parish Council//Meeting Calendar//EN
CALSCALE:GREGORIAN
METHOD:PUBLISH
BEGIN:VEVENT
UID:71430-20251007@woolavington-pc.gov.uk
DTSTAMP:20260424T220847Z
DTSTART;VALUE=DATE:20251007
DTEND;VALUE=DATE:20251008
SUMMARY:Parish Council Meeting &#8211\\; 7th October
DESCRIPTION:Full Council Meeting\nView details: https://woolavington-pc.gov.uk/meetings/parish-council-meeting-2/
URL:https://woolavington-pc.gov.uk/meetings/parish-council-meeting-2/
END:VEVENT
END:VCALENDAR
