BEGIN:VCALENDAR
VERSION:2.0
PRODID:-//Woolavington Parish Council//Meeting Calendar//EN
CALSCALE:GREGORIAN
METHOD:PUBLISH
BEGIN:VEVENT
UID:71380-20250826@woolavington-pc.gov.uk
DTSTAMP:20260424T220425Z
DTSTART;VALUE=DATE:20250826
DTEND;VALUE=DATE:20250827
SUMMARY:Parish Council Meeting 26th August 2025
DESCRIPTION:Full Council Meeting\nView details: https://woolavington-pc.gov.uk/meetings/parish-council-meeting/
URL:https://woolavington-pc.gov.uk/meetings/parish-council-meeting/
END:VEVENT
END:VCALENDAR
