BEGIN:VCALENDAR
VERSION:2.0
PRODID:-//Woolavington Parish Council//Meeting Calendar//EN
CALSCALE:GREGORIAN
METHOD:PUBLISH
BEGIN:VEVENT
UID:71265-20250501@woolavington-pc.gov.uk
DTSTAMP:20260424T220552Z
DTSTART;VALUE=DATE:20250501
DTEND;VALUE=DATE:20250502
SUMMARY:Annual Parish Council Meeting
DESCRIPTION:Annual Parish Meeting\nView details: https://woolavington-pc.gov.uk/meetings/annual-parish-council-meeting/
URL:https://woolavington-pc.gov.uk/meetings/annual-parish-council-meeting/
END:VEVENT
END:VCALENDAR
