BEGIN:VCALENDAR
VERSION:2.0
PRODID:-//Woolavington Parish Council//Meeting Calendar//EN
CALSCALE:GREGORIAN
METHOD:PUBLISH
BEGIN:VEVENT
UID:71029-20241029@woolavington-pc.gov.uk
DTSTAMP:20260425T011524Z
DTSTART;VALUE=DATE:20241029
DTEND;VALUE=DATE:20241030
SUMMARY:Council Meeting &#8211\\; 29th October 2024
DESCRIPTION:Full Council Meeting\nView details: https://woolavington-pc.gov.uk/meetings/meeting-name-here/
URL:https://woolavington-pc.gov.uk/meetings/meeting-name-here/
END:VEVENT
END:VCALENDAR
