BEGIN:VCALENDAR
VERSION:2.0
PRODID:-//Woolavington Parish Council//Meeting Calendar//EN
CALSCALE:GREGORIAN
METHOD:PUBLISH
BEGIN:VEVENT
UID:70721-20230822@woolavington-pc.gov.uk
DTSTAMP:20260424T215810Z
DTSTART;VALUE=DATE:20230822
DTEND;VALUE=DATE:20230823
SUMMARY:Special Council Meeting &#8211\\; 22 August 2023
DESCRIPTION:Special Meeting\nView details: https://woolavington-pc.gov.uk/meetings/special-council-meeting-22-august-2023/
URL:https://woolavington-pc.gov.uk/meetings/special-council-meeting-22-august-2023/
END:VEVENT
END:VCALENDAR
