BEGIN:VCALENDAR
VERSION:2.0
PRODID:-//Woolavington Parish Council//Meeting Calendar//EN
CALSCALE:GREGORIAN
METHOD:PUBLISH
BEGIN:VEVENT
UID:70711-20190101@woolavington-pc.gov.uk
DTSTAMP:20260424T221404Z
DTSTART;VALUE=DATE:20190101
DTEND;VALUE=DATE:20190102
SUMMARY:Council Meeting &#8211\\; 2019
DESCRIPTION:Full Council Meeting\nView details: https://woolavington-pc.gov.uk/meetings/council-meeting-2019/
URL:https://woolavington-pc.gov.uk/meetings/council-meeting-2019/
END:VEVENT
END:VCALENDAR
