BEGIN:VCALENDAR
VERSION:2.0
PRODID:-//Woolavington Parish Council//Meeting Calendar//EN
CALSCALE:GREGORIAN
METHOD:PUBLISH
BEGIN:VEVENT
UID:70695-20210101@woolavington-pc.gov.uk
DTSTAMP:20260424T221447Z
DTSTART;VALUE=DATE:20210101
DTEND;VALUE=DATE:20210102
SUMMARY:Council Meeting &#8211\\; 2021
DESCRIPTION:Full Council Meeting\nView details: https://woolavington-pc.gov.uk/meetings/council-meeting-2021/
URL:https://woolavington-pc.gov.uk/meetings/council-meeting-2021/
END:VEVENT
END:VCALENDAR
