BEGIN:VCALENDAR
VERSION:2.0
PRODID:-//Woolavington Parish Council//Meeting Calendar//EN
CALSCALE:GREGORIAN
METHOD:PUBLISH
BEGIN:VEVENT
UID:70669-20240416@woolavington-pc.gov.uk
DTSTAMP:20260425T010126Z
DTSTART;VALUE=DATE:20240416
DTEND;VALUE=DATE:20240417
SUMMARY:Council Meeting &#8211\\; 16 April 2024
DESCRIPTION:Full Council Meeting\nView details: https://woolavington-pc.gov.uk/meetings/council-meeting-16-april-2024/
URL:https://woolavington-pc.gov.uk/meetings/council-meeting-16-april-2024/
END:VEVENT
END:VCALENDAR
