BEGIN:VCALENDAR
VERSION:2.0
PRODID:-//Woolavington Parish Council//Meeting Calendar//EN
CALSCALE:GREGORIAN
METHOD:PUBLISH
BEGIN:VEVENT
UID:70667-20240521@woolavington-pc.gov.uk
DTSTAMP:20260425T024811Z
DTSTART;VALUE=DATE:20240521
DTEND;VALUE=DATE:20240522
SUMMARY:Council Meeting &#8211\\; 21 May 2024
DESCRIPTION:Full Council Meeting\nView details: https://woolavington-pc.gov.uk/meetings/council-meeting-21-may-2024/
URL:https://woolavington-pc.gov.uk/meetings/council-meeting-21-may-2024/
END:VEVENT
END:VCALENDAR
