BEGIN:VCALENDAR
VERSION:2.0
PRODID:-//Woolavington Parish Council//Meeting Calendar//EN
CALSCALE:GREGORIAN
METHOD:PUBLISH
BEGIN:VEVENT
UID:70661-20240917@woolavington-pc.gov.uk
DTSTAMP:20260425T023555Z
DTSTART;VALUE=DATE:20240917
DTEND;VALUE=DATE:20240918
SUMMARY:Council Meeting &#8211\\; 17 September 2024
DESCRIPTION:Full Council Meeting\nView details: https://woolavington-pc.gov.uk/meetings/council-meeting-17-september-2024/
URL:https://woolavington-pc.gov.uk/meetings/council-meeting-17-september-2024/
END:VEVENT
END:VCALENDAR
